BEGIN:VCALENDAR
VERSION:2.0
PRODID:-//Beachmere Area Network Group Inc  - ECPv4.7.3//NONSGML v1.0//EN
CALSCALE:GREGORIAN
METHOD:PUBLISH
X-WR-CALNAME:Beachmere Area Network Group Inc 
X-ORIGINAL-URL:http://bang.org.au
X-WR-CALDESC:Events for Beachmere Area Network Group Inc 
BEGIN:VEVENT
DTSTART;TZID=Australia/Brisbane:20170916T090000
DTEND;TZID=Australia/Brisbane:20170916T093000
DTSTAMP:20190301T171617
CREATED:20170805T013803Z
LAST-MODIFIED:20170805T013803Z
UID:980-1505552400-1505554200@bang.org.au
SUMMARY:Witness JP Service
DESCRIPTION:\nOutside IGA each Saturday 9am-9.30am\, Beachmere Village Shopping Centre\, Cnr Beachmere & James Roads \n\n\n\nCome get your documents witnessed by a Justice of the Peace.  A weekly service\, no appointment needed\, if further information required please feel free to contact info@bang.org.au. \n\n\n
URL:http://bang.org.au/event/witness-jp-service-21/
END:VEVENT
END:VCALENDAR