BEGIN:VCALENDAR
VERSION:2.0
PRODID:-//Beachmere Area Network Group Inc  - ECPv4.7.3//NONSGML v1.0//EN
CALSCALE:GREGORIAN
METHOD:PUBLISH
X-WR-CALNAME:Beachmere Area Network Group Inc 
X-ORIGINAL-URL:http://bang.org.au
X-WR-CALDESC:Events for Beachmere Area Network Group Inc 
BEGIN:VEVENT
DTSTART;TZID=Australia/Brisbane:20170401T090000
DTEND;TZID=Australia/Brisbane:20170401T093000
DTSTAMP:20190301T165653
CREATED:20170323T031539Z
LAST-MODIFIED:20170323T031539Z
UID:673-1491037200-1491039000@bang.org.au
SUMMARY:Witness JP Service
DESCRIPTION:Outside IGA each Saturday 9am-9.30am\, Beachmere Village Shopping Centre\, Cnr Beachmere & James Roads \nCome get your documents witnessed by a Justice of the Peace.  A weekly service\, no appointment needed\, if further information required please feel free to contact info@bang.org.au. \n
URL:http://bang.org.au/event/witness-jp-service-2/
END:VEVENT
END:VCALENDAR