BEGIN:VCALENDAR
VERSION:2.0
PRODID:-//Beachmere Area Network Group Inc  - ECPv4.7.3//NONSGML v1.0//EN
CALSCALE:GREGORIAN
METHOD:PUBLISH
X-WR-CALNAME:Beachmere Area Network Group Inc 
X-ORIGINAL-URL:http://bang.org.au
X-WR-CALDESC:Events for Beachmere Area Network Group Inc 
BEGIN:VEVENT
DTSTART;TZID=Australia/Brisbane:20160808T143000
DTEND;TZID=Australia/Brisbane:20160808T143000
DTSTAMP:20190301T170157
CREATED:20160806T021136Z
LAST-MODIFIED:20160806T021136Z
UID:191-1470666600-1470666600@bang.org.au
SUMMARY:RSPCA Cupcake Day Stall
DESCRIPTION:
URL:http://bang.org.au/event/rspca-cupcake-day-stall/
LOCATION:Goodstart Beachmere Foyer\, 2 James Road\, Beachmere\, Queenslan\, 4510\, Australia
END:VEVENT
END:VCALENDAR