BEGIN:VCALENDAR
VERSION:2.0
PRODID:-//Beachmere Area Network Group Inc  - ECPv4.7.3//NONSGML v1.0//EN
CALSCALE:GREGORIAN
METHOD:PUBLISH
X-WR-CALNAME:Beachmere Area Network Group Inc 
X-ORIGINAL-URL:http://bang.org.au
X-WR-CALDESC:Events for Beachmere Area Network Group Inc 
BEGIN:VEVENT
DTSTART;TZID=Australia/Brisbane:20170117T180000
DTEND;TZID=Australia/Brisbane:20170117T190000
DTSTAMP:20190301T165811
CREATED:20161227T060738Z
LAST-MODIFIED:20161227T210536Z
UID:445-1484676000-1484679600@bang.org.au
SUMMARY:BANG - General Meeting OPEN to ALL
DESCRIPTION:Beachmere Activity Centre\, 25 Biggs Ave  (3rd Tuesday each month) \nWant to be more involved with your community?\nCome along and see what Beachmere Area Network Group are all about.\nANYONE & EVERYONE INVITED \nA new format for this meeting is being trialed\, come be part of our first meeting for the new 2017.\nNO NEED TO RSVP – JUST SHOW UP\nWhat can we all create together as a community?\nIf you can’t make a meeting\, or want to ask a question\, please feel free to email us – info@bang.org.au or phone 0456 818 017. \n  \nWant to support BANG by becoming a member?  Go to this link below for a copy of our membership details. Thank you \nhttp://bang.org.au/bwp/wp-content/uploads/2016/06/BANG-MEMBER-FORM-2017.-1.pdf \n
URL:http://bang.org.au/event/bang-general-meeting-open/
END:VEVENT
END:VCALENDAR