BEGIN:VCALENDAR
VERSION:2.0
PRODID:-//Beachmere Area Network Group Inc  - ECPv4.7.3//NONSGML v1.0//EN
CALSCALE:GREGORIAN
METHOD:PUBLISH
X-WR-CALNAME:Beachmere Area Network Group Inc 
X-ORIGINAL-URL:http://bang.org.au
X-WR-CALDESC:Events for Beachmere Area Network Group Inc 
BEGIN:VEVENT
DTSTART;TZID=Australia/Brisbane:20160704T090000
DTEND;TZID=Australia/Brisbane:20160704T110000
DTSTAMP:20190301T170053
CREATED:20160619T013217Z
LAST-MODIFIED:20160619T013217Z
UID:37-1467622800-1467630000@bang.org.au
SUMMARY:Art and Craft Group
DESCRIPTION:
URL:http://bang.org.au/event/art-and-craft-group-3/
LOCATION:Beachmere Activity Centre\, 25 Biggs Ave\, Beachmere\, Queensland\, 4510\, Australia
END:VEVENT
END:VCALENDAR