BEGIN:VCALENDAR
VERSION:2.0
PRODID:-//Beachmere Area Network Group Inc  - ECPv4.7.3//NONSGML v1.0//EN
CALSCALE:GREGORIAN
METHOD:PUBLISH
X-WR-CALNAME:Beachmere Area Network Group Inc 
X-ORIGINAL-URL:http://bang.org.au
X-WR-CALDESC:Events for Beachmere Area Network Group Inc 
BEGIN:VEVENT
DTSTART;TZID=Australia/Brisbane:20170205T070000
DTEND;TZID=Australia/Brisbane:20170205T110000
DTSTAMP:20190301T165930
CREATED:20161117T121622Z
LAST-MODIFIED:20161117T122231Z
UID:358-1486278000-1486292400@bang.org.au
SUMMARY:CAR BOOT SALE
DESCRIPTION:CAR BOOT SALE\n\n 1st Sunday of every month (except Jan)\nBeachmere Village Shopping Centre Carpark\, Cnr Beachmere & James Rds \nBook a Stall NOW $10 per car  OR  come along and pick up a BARGAIN! \nTo book your spot or for more information\,\nplease contact us on\ninfo@bang.org.au – 0456 818 017\n\nEach car to be set-up in designated area by 6.15 – 6.45am.  Only one marquee per car allowed\, self-supplied\, no larger than 3x3m.\nNO FOOD SALES ALLOWED except otherwise authorised by BANG Inc.  Stall Fee $10 payable on day. CASH ONLY\n
URL:http://bang.org.au/event/358/
END:VEVENT
END:VCALENDAR