BEGIN:VCALENDAR
VERSION:2.0
PRODID:-//Beachmere Area Network Group Inc  - ECPv4.7.3//NONSGML v1.0//EN
CALSCALE:GREGORIAN
METHOD:PUBLISH
X-WR-CALNAME:Beachmere Area Network Group Inc 
X-ORIGINAL-URL:http://bang.org.au
X-WR-CALDESC:Events for Beachmere Area Network Group Inc 
BEGIN:VEVENT
DTSTART;TZID=Australia/Brisbane:20170203T120000
DTEND;TZID=Australia/Brisbane:20170203T140000
DTSTAMP:20190301T162630
CREATED:20161117T111535Z
LAST-MODIFIED:20161117T122254Z
UID:339-1486123200-1486130400@bang.org.au
SUMMARY:Ladies\, Let's do Lunch
DESCRIPTION:Ladies\, Let’s do Lunch\nCome along and meet some ladies who live\, play and work in Beachmere.\nIt’s a great way to meet new people\, catch up monthly with others and to Network your business. \nLucky Door Prize each month at no cost\nAll gifts are donated – please feel free to donate a prize \n1st Friday of the month  – 12pm-2pm\nRSL Beachmere\, Main Street\nMeals & Drinks at the will be at your expense. \n$10 lunches available \nPLEASE RSVP – TEXT or EMAIL \nCHRISTINE : 0413 73 95 73 : ladieslunch@bang.org.au \n
URL:http://bang.org.au/event/339/
END:VEVENT
END:VCALENDAR